{
 "currentVersion": 10.91,
 "serviceDescription": "Imagery/LR_Hillshade",
 "name": "Imagery/LR_Hillshade",
 "description": "",
 "extent": {
  "xmin": 410000,
  "ymin": 1360000,
  "xmax": 760000,
  "ymax": 1780000,
  "spatialReference": {
   "wkt": "PROJCS[\"NAD_1983_HARN_StatePlane_Florida_West_FIPS_0902_Feet\",GEOGCS[\"GCS_North_American_1983_HARN\",DATUM[\"D_North_American_1983_HARN\",SPHEROID[\"GRS_1980\",6378137.0,298.257222101]],PRIMEM[\"Greenwich\",0.0],UNIT[\"Degree\",0.0174532925199433]],PROJECTION[\"Transverse_Mercator\"],PARAMETER[\"False_Easting\",656166.6666666665],PARAMETER[\"False_Northing\",0.0],PARAMETER[\"Central_Meridian\",-82.0],PARAMETER[\"Scale_Factor\",0.9999411764705882],PARAMETER[\"Latitude_Of_Origin\",24.33333333333333],UNIT[\"Foot_US\",0.3048006096012192]],VERTCS[\"NAVD_1988\",VDATUM[\"North_American_Vertical_Datum_1988\"],PARAMETER[\"Vertical_Shift\",0.0],PARAMETER[\"Direction\",1.0],UNIT[\"Foot_US\",0.3048006096012192]]"
  }
 },
 "initialExtent": {
  "xmin": 410000,
  "ymin": 1360000,
  "xmax": 760000,
  "ymax": 1780000,
  "spatialReference": {
   "wkt": "PROJCS[\"NAD_1983_HARN_StatePlane_Florida_West_FIPS_0902_Feet\",GEOGCS[\"GCS_North_American_1983_HARN\",DATUM[\"D_North_American_1983_HARN\",SPHEROID[\"GRS_1980\",6378137.0,298.257222101]],PRIMEM[\"Greenwich\",0.0],UNIT[\"Degree\",0.0174532925199433]],PROJECTION[\"Transverse_Mercator\"],PARAMETER[\"False_Easting\",656166.6666666665],PARAMETER[\"False_Northing\",0.0],PARAMETER[\"Central_Meridian\",-82.0],PARAMETER[\"Scale_Factor\",0.9999411764705882],PARAMETER[\"Latitude_Of_Origin\",24.33333333333333],UNIT[\"Foot_US\",0.3048006096012192]],VERTCS[\"NAVD_1988\",VDATUM[\"North_American_Vertical_Datum_1988\"],PARAMETER[\"Vertical_Shift\",0.0],PARAMETER[\"Direction\",1.0],UNIT[\"Foot_US\",0.3048006096012192]]"
  }
 },
 "fullExtent": {
  "xmin": 410000,
  "ymin": 1360000,
  "xmax": 760000,
  "ymax": 1780000,
  "spatialReference": {
   "wkt": "PROJCS[\"NAD_1983_HARN_StatePlane_Florida_West_FIPS_0902_Feet\",GEOGCS[\"GCS_North_American_1983_HARN\",DATUM[\"D_North_American_1983_HARN\",SPHEROID[\"GRS_1980\",6378137.0,298.257222101]],PRIMEM[\"Greenwich\",0.0],UNIT[\"Degree\",0.0174532925199433]],PROJECTION[\"Transverse_Mercator\"],PARAMETER[\"False_Easting\",656166.6666666665],PARAMETER[\"False_Northing\",0.0],PARAMETER[\"Central_Meridian\",-82.0],PARAMETER[\"Scale_Factor\",0.9999411764705882],PARAMETER[\"Latitude_Of_Origin\",24.33333333333333],UNIT[\"Foot_US\",0.3048006096012192]],VERTCS[\"NAVD_1988\",VDATUM[\"North_American_Vertical_Datum_1988\"],PARAMETER[\"Vertical_Shift\",0.0],PARAMETER[\"Direction\",1.0],UNIT[\"Foot_US\",0.3048006096012192]]"
  }
 },
 "heightModelInfo": {
  "heightModel": "gravity_related_height",
  "vertCRS": "NAVD_1988",
  "heightUnit": "us-foot"
 },
 "pixelSizeX": 5,
 "pixelSizeY": 5,
 "bandCount": 1,
 "pixelType": "U8",
 "minPixelSize": 0,
 "maxPixelSize": 0,
 "copyrightText": "",
 "serviceDataType": "esriImageServiceDataTypeGeneric",
 "minValues": [
  0
 ],
 "maxValues": [
  254
 ],
 "meanValues": [
  217.22267974424213
 ],
 "stdvValues": [
  35.5510992289563
 ],
 "objectIdField": "",
 "fields": [],
 "capabilities": "Mensuration,Image,Metadata",
 "defaultMosaicMethod": "Center",
 "allowedMosaicMethods": "",
 "sortField": "",
 "sortValue": null,
 "sortAscending": true,
 "mosaicOperator": "First",
 "defaultCompressionQuality": 75,
 "defaultResamplingMethod": "Bilinear",
 "maxImageHeight": 4100,
 "maxImageWidth": 15000,
 "allowRasterFunction": true,
 "rasterFunctionInfos": [
  {
   "name": "None",
   "description": "",
   "help": ""
  }
 ],
 "rasterTypeInfos": [
  {
   "name": "Raster Dataset",
   "description": "Supports all ArcGIS Raster Datasets",
   "help": ""
  }
 ],
 "mensurationCapabilities": "Basic",
 "hasHistograms": true,
 "hasColormap": false,
 "hasRasterAttributeTable": true,
 "minScale": 0,
 "maxScale": 0,
 "exportTilesAllowed": false,
 "hasMultidimensions": false,
 "supportsStatistics": false,
 "supportsAdvancedQueries": false,
 "editFieldsInfo": null,
 "ownershipBasedAccessControlForRasters": null,
 "allowComputeTiePoints": false,
 "useStandardizedQueries": true,
 "advancedQueryCapabilities": {
  "useStandardizedQueries": true,
  "supportsStatistics": false,
  "supportsOrderBy": false,
  "supportsDistinct": false,
  "supportsPagination": false
 },
 "spatialReference": {
  "wkt": "PROJCS[\"NAD_1983_HARN_StatePlane_Florida_West_FIPS_0902_Feet\",GEOGCS[\"GCS_North_American_1983_HARN\",DATUM[\"D_North_American_1983_HARN\",SPHEROID[\"GRS_1980\",6378137.0,298.257222101]],PRIMEM[\"Greenwich\",0.0],UNIT[\"Degree\",0.0174532925199433]],PROJECTION[\"Transverse_Mercator\"],PARAMETER[\"False_Easting\",656166.6666666665],PARAMETER[\"False_Northing\",0.0],PARAMETER[\"Central_Meridian\",-82.0],PARAMETER[\"Scale_Factor\",0.9999411764705882],PARAMETER[\"Latitude_Of_Origin\",24.33333333333333],UNIT[\"Foot_US\",0.3048006096012192]],VERTCS[\"NAVD_1988\",VDATUM[\"North_American_Vertical_Datum_1988\"],PARAMETER[\"Vertical_Shift\",0.0],PARAMETER[\"Direction\",1.0],UNIT[\"Foot_US\",0.3048006096012192]]"
 }
}
