{
 "currentVersion": 10.91,
 "serviceDescription": "Ortho Imagery for UAV for Starkey.",
 "name": "Imagery/Starkey_Ortho",
 "description": "Ortho Imagery for UAV for Starkey.",
 "extent": {
  "xmin": 473559.10451000003,
  "ymin": 1428927.03593,
  "xmax": 474433.42295000004,
  "ymax": 1429541.24545,
  "spatialReference": {
   "wkid": 2882,
   "latestWkid": 2882
  }
 },
 "initialExtent": {
  "xmin": 473559.10451000003,
  "ymin": 1428927.03593,
  "xmax": 474433.42295000004,
  "ymax": 1429541.24545,
  "spatialReference": {
   "wkid": 2882,
   "latestWkid": 2882
  }
 },
 "fullExtent": {
  "xmin": 473559.10451000003,
  "ymin": 1428927.03593,
  "xmax": 474433.42295000004,
  "ymax": 1429541.24545,
  "spatialReference": {
   "wkid": 2882,
   "latestWkid": 2882
  }
 },
 "pixelSizeX": 0.16318000000000052,
 "pixelSizeY": 0.1631800000000088,
 "bandCount": 4,
 "pixelType": "U8",
 "minPixelSize": 0,
 "maxPixelSize": 0,
 "copyrightText": "",
 "serviceDataType": "esriImageServiceDataTypeGeneric",
 "minValues": [
  1,
  1,
  1,
  255
 ],
 "maxValues": [
  255,
  255,
  255,
  255
 ],
 "meanValues": [
  104.4038380832742,
  100.87603479828114,
  96.01413493460261,
  255
 ],
 "stdvValues": [
  64.19353463030444,
  62.97071573985004,
  58.500539026613104,
  0
 ],
 "objectIdField": "",
 "fields": [],
 "capabilities": "Image,Metadata,Mensuration",
 "defaultMosaicMethod": "Center",
 "allowedMosaicMethods": "",
 "sortField": "",
 "sortValue": null,
 "sortAscending": true,
 "mosaicOperator": "First",
 "defaultCompressionQuality": 75,
 "defaultResamplingMethod": "Bilinear",
 "maxImageHeight": 4100,
 "maxImageWidth": 15000,
 "allowRasterFunction": true,
 "rasterFunctionInfos": [
  {
   "name": "None",
   "description": "",
   "help": ""
  }
 ],
 "rasterTypeInfos": [
  {
   "name": "Raster Dataset",
   "description": "Supports all ArcGIS Raster Datasets",
   "help": ""
  }
 ],
 "mensurationCapabilities": "Basic",
 "hasHistograms": true,
 "hasColormap": false,
 "hasRasterAttributeTable": false,
 "minScale": 0,
 "maxScale": 0,
 "exportTilesAllowed": false,
 "hasMultidimensions": false,
 "supportsStatistics": false,
 "supportsAdvancedQueries": false,
 "editFieldsInfo": null,
 "ownershipBasedAccessControlForRasters": null,
 "allowComputeTiePoints": false,
 "useStandardizedQueries": true,
 "advancedQueryCapabilities": {
  "useStandardizedQueries": true,
  "supportsStatistics": false,
  "supportsOrderBy": false,
  "supportsDistinct": false,
  "supportsPagination": false
 },
 "spatialReference": {
  "wkid": 2882,
  "latestWkid": 2882
 }
}
