View In:
ArcGIS JavaScript
ArcGIS Online Map Viewer
ArcGIS Earth
ArcMap
View Footprint In:
ArcGIS Online Map Viewer
Service Description: UAV Ortho Imagery for Gilley Creek.
Name: Imagery/GilleyCrk_Ortho
Description: UAV Ortho Imagery for Gilley Creek.
Single Fused Map Cache: false
Extent:
XMin: 374930.62201000005
YMin: 3045375.9632400004
XMax: 375541.67141000007
YMax: 3045947.0932400003
Spatial Reference: 32617
(32617)
Initial Extent:
XMin: 374930.62201000005
YMin: 3045375.9632400004
XMax: 375541.67141000007
YMax: 3045947.0932400003
Spatial Reference: 32617
(32617)
Full Extent:
XMin: 374930.62201000005
YMin: 3045375.9632400004
XMax: 375541.67141000007
YMax: 3045947.0932400003
Spatial Reference: 32617
(32617)
Pixel Size X: 0.039800000000001175
Pixel Size Y: 0.03979999999999221
Band Count: 4
Pixel Type: U8
RasterFunction Infos: {"rasterFunctionInfos": [{
"name": "None",
"description": "",
"help": ""
}]}
Mensuration Capabilities: Basic
Has Histograms: true
Has Colormap: false
Has Multi Dimensions : false
Rendering Rule:
Min Scale: 0
Max Scale: 0
Copyright Text:
Service Data Type: esriImageServiceDataTypeGeneric
Min Values: 1, 1, 1, 255
Max Values: 255, 255, 255, 255
Mean Values: 105.6167396412087, 109.87289465314385, 85.3740650407186, 255
Standard Deviation Values: 51.847374525205346, 54.32887509736867, 46.95620792694055, 0
Object ID Field:
Fields:
None
Default Mosaic Method: Center
Allowed Mosaic Methods:
SortField:
SortValue: null
Mosaic Operator: First
Default Compression Quality: 75
Default Resampling Method: Bilinear
Max Record Count: null
Max Image Height: 4100
Max Image Width: 15000
Max Download Image Count: null
Max Mosaic Image Count: null
Allow Raster Function: true
Allow Copy: null
Allow Analysis: null
Allow Compute TiePoints: false
Supports Statistics: false
Supports Advanced Queries: false
Use StandardizedQueries: true
Raster Type Infos:
Name: Raster Dataset
Description: Supports all ArcGIS Raster Datasets
Help:
Has Raster Attribute Table: false
Edit Fields Info: null
Ownership Based AccessControl For Rasters: null
Child Resources:
Info
Histograms
Key Properties
Legend
Raster Function Infos
Supported Operations:
Export Image
Identify
Measure
Compute Histograms
Compute Statistics Histograms
Get Samples
Compute Class Statistics
Query Boundary
Compute Pixel Location
Compute Angles
Validate
Project