View In:
ArcGIS JavaScript
ArcGIS Online Map Viewer
ArcGIS Earth
ArcMap
View Footprint In:
ArcGIS Online Map Viewer
Service Description: Ortho Imagery for UAV for Starkey.
Name: Imagery/Starkey_Ortho
Description: Ortho Imagery for UAV for Starkey.
Single Fused Map Cache: false
Extent:
XMin: 473559.10451000003
YMin: 1428927.03593
XMax: 474433.42295000004
YMax: 1429541.24545
Spatial Reference: 2882
(2882)
Initial Extent:
XMin: 473559.10451000003
YMin: 1428927.03593
XMax: 474433.42295000004
YMax: 1429541.24545
Spatial Reference: 2882
(2882)
Full Extent:
XMin: 473559.10451000003
YMin: 1428927.03593
XMax: 474433.42295000004
YMax: 1429541.24545
Spatial Reference: 2882
(2882)
Pixel Size X: 0.16318000000000052
Pixel Size Y: 0.1631800000000088
Band Count: 4
Pixel Type: U8
RasterFunction Infos: {"rasterFunctionInfos": [{
"name": "None",
"description": "",
"help": ""
}]}
Mensuration Capabilities: Basic
Has Histograms: true
Has Colormap: false
Has Multi Dimensions : false
Rendering Rule:
Min Scale: 0
Max Scale: 0
Copyright Text:
Service Data Type: esriImageServiceDataTypeGeneric
Min Values: 1, 1, 1, 255
Max Values: 255, 255, 255, 255
Mean Values: 104.4038380832742, 100.87603479828114, 96.01413493460261, 255
Standard Deviation Values: 64.19353463030444, 62.97071573985004, 58.500539026613104, 0
Object ID Field:
Fields:
None
Default Mosaic Method: Center
Allowed Mosaic Methods:
SortField:
SortValue: null
Mosaic Operator: First
Default Compression Quality: 75
Default Resampling Method: Bilinear
Max Record Count: null
Max Image Height: 4100
Max Image Width: 15000
Max Download Image Count: null
Max Mosaic Image Count: null
Allow Raster Function: true
Allow Copy: null
Allow Analysis: null
Allow Compute TiePoints: false
Supports Statistics: false
Supports Advanced Queries: false
Use StandardizedQueries: true
Raster Type Infos:
Name: Raster Dataset
Description: Supports all ArcGIS Raster Datasets
Help:
Has Raster Attribute Table: false
Edit Fields Info: null
Ownership Based AccessControl For Rasters: null
Child Resources:
Info
Histograms
Key Properties
Legend
Raster Function Infos
Supported Operations:
Export Image
Identify
Measure
Compute Histograms
Compute Statistics Histograms
Get Samples
Compute Class Statistics
Query Boundary
Compute Pixel Location
Compute Angles
Validate
Project